BEGIN:VCALENDAR
VERSION:2.0
PRODID:-//Media Literacy - ECPv6.15.20//NONSGML v1.0//EN
CALSCALE:GREGORIAN
METHOD:PUBLISH
X-ORIGINAL-URL:https://medialiteracy.org.au
X-WR-CALDESC:Events for Media Literacy
REFRESH-INTERVAL;VALUE=DURATION:PT1H
X-Robots-Tag:noindex
X-PUBLISHED-TTL:PT1H
BEGIN:VTIMEZONE
TZID:Australia/Sydney
BEGIN:STANDARD
TZOFFSETFROM:+1100
TZOFFSETTO:+1000
TZNAME:AEST
DTSTART:20220402T160000
END:STANDARD
BEGIN:DAYLIGHT
TZOFFSETFROM:+1000
TZOFFSETTO:+1100
TZNAME:AEDT
DTSTART:20221001T160000
END:DAYLIGHT
BEGIN:STANDARD
TZOFFSETFROM:+1100
TZOFFSETTO:+1000
TZNAME:AEST
DTSTART:20230401T160000
END:STANDARD
BEGIN:DAYLIGHT
TZOFFSETFROM:+1000
TZOFFSETTO:+1100
TZNAME:AEDT
DTSTART:20230930T160000
END:DAYLIGHT
BEGIN:STANDARD
TZOFFSETFROM:+1100
TZOFFSETTO:+1000
TZNAME:AEST
DTSTART:20240406T160000
END:STANDARD
BEGIN:DAYLIGHT
TZOFFSETFROM:+1000
TZOFFSETTO:+1100
TZNAME:AEDT
DTSTART:20241005T160000
END:DAYLIGHT
END:VTIMEZONE
BEGIN:VEVENT
DTSTART;TZID=Australia/Sydney:20230719T154500
DTEND;TZID=Australia/Sydney:20230719T163500
DTSTAMP:20260415T180708
CREATED:20230626T233032Z
LAST-MODIFIED:20230627T015402Z
UID:10000032-1689781500-1689784500@medialiteracy.org.au
SUMMARY:Exploring media literacy in the age of AI
DESCRIPTION:Explore the intersection of media literacy and artificial intelligence with Leon Furze\, as he addresses the challenges of fake news and manipulated images in the digital era. Learn how AI tools can help educators foster critical thinking skills and empower students to responsibly consume and evaluate media content. Equip yourself with the knowledge and skills to support your students in navigating the ever-changing media landscape. Additionally\, delve into the implications of copyright in the arts as it relates to AI-generated content. \nKey takeaways include: the role of AI in addressing media literacy challenges\, such as fake news and deceptive images; strategies for fostering critical thinking skills and responsible media consumption in students; and an understanding of copyright issues related to AI-generated content in the arts
URL:https://medialiteracy.org.au/event/exploring-media-literacy-in-the-age-of-ai/
LOCATION:Online
ATTACH;FMTTYPE=image/png:https://medialiteracy.org.au/wp-content/uploads/2023/06/thumbnail_A_vibrant_scene_combining_elements_fr.original.png
END:VEVENT
END:VCALENDAR