BEGIN:VCALENDAR
VERSION:2.0
PRODID:-//Media Literacy - ECPv6.15.20//NONSGML v1.0//EN
CALSCALE:GREGORIAN
METHOD:PUBLISH
X-ORIGINAL-URL:https://medialiteracy.org.au
X-WR-CALDESC:Events for Media Literacy
REFRESH-INTERVAL;VALUE=DURATION:PT1H
X-Robots-Tag:noindex
X-PUBLISHED-TTL:PT1H
BEGIN:VTIMEZONE
TZID:America/Los_Angeles
BEGIN:DAYLIGHT
TZOFFSETFROM:-0800
TZOFFSETTO:-0700
TZNAME:PDT
DTSTART:20230312T100000
END:DAYLIGHT
BEGIN:STANDARD
TZOFFSETFROM:-0700
TZOFFSETTO:-0800
TZNAME:PST
DTSTART:20231105T090000
END:STANDARD
BEGIN:DAYLIGHT
TZOFFSETFROM:-0800
TZOFFSETTO:-0700
TZNAME:PDT
DTSTART:20240310T100000
END:DAYLIGHT
BEGIN:STANDARD
TZOFFSETFROM:-0700
TZOFFSETTO:-0800
TZNAME:PST
DTSTART:20241103T090000
END:STANDARD
BEGIN:DAYLIGHT
TZOFFSETFROM:-0800
TZOFFSETTO:-0700
TZNAME:PDT
DTSTART:20250309T100000
END:DAYLIGHT
BEGIN:STANDARD
TZOFFSETFROM:-0700
TZOFFSETTO:-0800
TZNAME:PST
DTSTART:20251102T090000
END:STANDARD
END:VTIMEZONE
BEGIN:VEVENT
DTSTART;VALUE=DATE:20240712
DTEND;VALUE=DATE:20240714
DTSTAMP:20260424T094945
CREATED:20240509T232755Z
LAST-MODIFIED:20240509T232755Z
UID:10000045-1720742400-1720915199@medialiteracy.org.au
SUMMARY:National Association of Media Literacy Educators (USA) Conference
DESCRIPTION:Hone in on your practice at NAMLE’s annual virtual conference! \nFrom Pre-K to Higher Education\, Community Education and Libraries\, the conference provides valuable resources\, technology\, teacher practice and pedagogy\, assessments\, and core concepts of media literacy education.
URL:https://medialiteracy.org.au/event/national-association-of-media-literacy-educators-usa-conference/
LOCATION:Online
ATTACH;FMTTYPE=image/png:https://medialiteracy.org.au/wp-content/uploads/2024/05/namle.png
END:VEVENT
END:VCALENDAR